BEGIN:VCALENDAR
VERSION:2.0
PRODID:-//TYPO3/NONSGML News system (news)//EN
BEGIN:VEVENT
UID:news-125806@alumni.uni-graz.at
DTSTAMP:20250716T112649Z
DTSTART:20251009T160000Z
DTEND:20251009T160000Z
SUMMARY:URBI-Club: Film &amp; Talk

DESCRIPTION:Demokratie auf der Kippe - Was können wir tun?
END:VEVENT
END:VCALENDAR
