BEGIN:VCALENDAR
VERSION:2.0
PRODID:-//TYPO3/NONSGML News system (news)//EN
BEGIN:VEVENT
UID:news-86440@alumni.uni-graz.at
DTSTAMP:20220525T081716Z
DTSTART:20220523T150000Z
DTEND:20220425T163000Z
SUMMARY:Speed Mentoring - 1 Stunde, 10 Karriere-Talks

DESCRIPTION:Das Speed-Mentoring im Pop-Up-Store der Uni Graz ließ keine Karriere-Frage offen
END:VEVENT
END:VCALENDAR
