BEGIN:VCALENDAR
VERSION:2.0
PRODID:-//TYPO3/NONSGML News system (news)//EN
BEGIN:VEVENT
UID:news-62502@alumni.uni-graz.at
DTSTAMP:20200311T082607Z
DTSTART:20200312T150000Z
DTEND:20200312T170000Z
SUMMARY:Sektion Alumni Romanistik: L&#039;università va a scuola

DESCRIPTION:ABGESAGT
END:VEVENT
END:VCALENDAR
