BEGIN:VCALENDAR
VERSION:2.0
PRODID:-//TYPO3/NONSGML News system (news)//EN
BEGIN:VEVENT
UID:news-48710@alumni.uni-graz.at
DTSTAMP:20180808T083007Z
DTSTART:20141219T180000Z
DTEND:20141219T200000Z
SUMMARY:Netzwerk STUTTGART: Alumni-Treffen am Weihnachtsmarkt

DESCRIPTION:&lt;h4&gt;Ein gemütliches alumni-Treffen am Weihnachtsmarkt!&lt;/h4&gt;
END:VEVENT
END:VCALENDAR
