BEGIN:VCALENDAR
VERSION:2.0
PRODID:-//TYPO3/NONSGML News system (news)//EN
BEGIN:VEVENT
UID:news-45331@alumni.uni-graz.at
DTSTAMP:20180903T085634Z
DTSTART:20170626T140000Z
DTEND:20170626T173000Z
SUMMARY:GLOBAL STUDIES-Club: Das globale T-Shirt

DESCRIPTION:Veranstaltung offen für alle Interessierten 
END:VEVENT
END:VCALENDAR
