BEGIN:VCALENDAR
VERSION:2.0
PRODID:-//TYPO3/NONSGML News system (news)//EN
BEGIN:VEVENT
UID:news-54410@alumni.uni-graz.at
DTSTAMP:20190524T103709Z
DTSTART:20190522T150000Z
DTEND:20190522T180000Z
SUMMARY:Ehrenamtsmesse an der Uni Graz

DESCRIPTION:Engagement, das in die Gesellschaft wirkt!
END:VEVENT
END:VCALENDAR
