BEGIN:VCALENDAR
VERSION:2.0
PRODID:-//TYPO3/NONSGML News system (news)//EN
BEGIN:VEVENT
UID:news-48680@alumni.uni-graz.at
DTSTAMP:20200320T083806Z
DTSTART:20120301T170000Z
DTEND:20120301T200000Z
SUMMARY:Chapter ZÜRICH: Führung bei der FIFA

DESCRIPTION:Auf dem Programm des zweiten Alumni-Treffens in Zürich stand eine  Führung durch die Räumlichkeiten der „Fédération Internationale de Football Association“, kurz FIFA genannt. 
END:VEVENT
END:VCALENDAR
