BEGIN:VCALENDAR
VERSION:2.0
PRODID:-//TYPO3/NONSGML News system (news)//EN
BEGIN:VEVENT
UID:news-48659@alumni.uni-graz.at
DTSTAMP:20181210T090543Z
DTSTART:20160203T110000Z
DTEND:20160203T130000Z
SUMMARY:Chapter TÜRKEI: Business Lunch
END:VEVENT
END:VCALENDAR
