BEGIN:VCALENDAR
VERSION:2.0
PRODID:-//TYPO3/NONSGML News system (news)//EN
BEGIN:VEVENT
UID:news-136019@alumni.uni-graz.at
DTSTAMP:20260421T114757Z
DTSTART:20260428T180000Z
DTEND:20260428T180000Z
SUMMARY:Chapter JDEAS: Barcelona Happy Hour
END:VEVENT
END:VCALENDAR
